BEGIN:VCALENDAR
VERSION:2.0
PRODID:-//Cowgirl Q - ECPv6.6.4.2//NONSGML v1.0//EN
CALSCALE:GREGORIAN
METHOD:PUBLISH
X-WR-CALNAME:Cowgirl Q
X-ORIGINAL-URL:https://cowgirlq.com
X-WR-CALDESC:Events for Cowgirl Q
REFRESH-INTERVAL;VALUE=DURATION:PT1H
X-Robots-Tag:noindex
X-PUBLISHED-TTL:PT1H
BEGIN:VTIMEZONE
TZID:America/Los_Angeles
BEGIN:DAYLIGHT
TZOFFSETFROM:-0800
TZOFFSETTO:-0700
TZNAME:PDT
DTSTART:20210314T100000
END:DAYLIGHT
BEGIN:STANDARD
TZOFFSETFROM:-0700
TZOFFSETTO:-0800
TZNAME:PST
DTSTART:20211107T090000
END:STANDARD
END:VTIMEZONE
BEGIN:VEVENT
DTSTART;TZID=America/Los_Angeles:20210522T100000
DTEND;TZID=America/Los_Angeles:20210522T170000
DTSTAMP:20260420T034527
CREATED:20210504T155826Z
LAST-MODIFIED:20210504T155826Z
UID:534-1621677600-1621702800@cowgirlq.com
SUMMARY:LIVE BBQ Event with Susie Bulloch of Hey Grill\, Hey!
DESCRIPTION:
URL:https://cowgirlq.com/event/live-bbq-event-with-susie-bulloch-of-hey-grill-hey/
LOCATION:AleSmith Brewing Company
END:VEVENT
BEGIN:VEVENT
DTSTART;TZID=America/Los_Angeles:20210520T080000
DTEND;TZID=America/Los_Angeles:20210520T170000
DTSTAMP:20260420T034527
CREATED:20210412T220045Z
LAST-MODIFIED:20210413T173624Z
UID:516-1621497600-1621530000@cowgirlq.com
SUMMARY:Grilling Vegetables
DESCRIPTION:
URL:https://cowgirlq.com/event/grilling-vegetables/
END:VEVENT
BEGIN:VEVENT
DTSTART;TZID=America/Los_Angeles:20210430T080000
DTEND;TZID=America/Los_Angeles:20210430T170000
DTSTAMP:20260420T034527
CREATED:20210412T220019Z
LAST-MODIFIED:20210413T173658Z
UID:514-1619769600-1619802000@cowgirlq.com
SUMMARY:Wine & Whiskey
DESCRIPTION:
URL:https://cowgirlq.com/event/wine-whiskey/
END:VEVENT
BEGIN:VEVENT
DTSTART;TZID=America/Los_Angeles:20210429T080000
DTEND;TZID=America/Los_Angeles:20210429T170000
DTSTAMP:20260420T034527
CREATED:20210412T220004Z
LAST-MODIFIED:20210413T173704Z
UID:513-1619683200-1619715600@cowgirlq.com
SUMMARY:Make Your Own Dry Rub
DESCRIPTION:
URL:https://cowgirlq.com/event/make-your-own-dry-rub/
END:VEVENT
BEGIN:VEVENT
DTSTART;TZID=America/Los_Angeles:20210416T080000
DTEND;TZID=America/Los_Angeles:20210416T170000
DTSTAMP:20260420T034527
CREATED:20210412T220032Z
LAST-MODIFIED:20210413T173653Z
UID:515-1618560000-1618592400@cowgirlq.com
SUMMARY:BBQ Chicken Grill Class
DESCRIPTION:
URL:https://cowgirlq.com/event/bbq-chicken-grill-class/
END:VEVENT
BEGIN:VEVENT
DTSTART;TZID=America/Los_Angeles:20210412T080000
DTEND;TZID=America/Los_Angeles:20210412T170000
DTSTAMP:20260420T034527
CREATED:20210412T215953Z
LAST-MODIFIED:20210412T215953Z
UID:512-1618214400-1618246800@cowgirlq.com
SUMMARY:Knife Skills Class for Women
DESCRIPTION:
URL:https://cowgirlq.com/event/knife-skills-class-for-women/
END:VEVENT
END:VCALENDAR